Workbook
Name NRELATORIOS: COUNTA(#REF!)-2
Name RelatoriosFontes: OFFSET(#REF!,1,0,NRELATORIOS)
Name RelatoriosFontes: OFFSET(#REF!,1,0,NRELATORIOS)

Sheet ORÇAMENTO
I2: Cruzeiro do Sul/RS, janeiro de 2022
G4: TOMADOR: | I4: PREFEITURA MUNICIPAL DE CRUZEIRO DO SUL
G5: NOME DA OBRA: | I5: LINHA SÍTIO
G6: ÁREA TOTAL: | I6: =D20 -> 1376.59 | J6: m²
A7: CRUZEIRO DO SUL/RS | G7: TIPO DE OBRA: | I7: CONSTRUÇÃO DE FERROVIAS E RODOVIAS
A8: LINHA SÍTIO | G8: CONTRIBUIÇÃO PREVIDENCIÁRIA: | I8: ORÇAMENTO SEM A DESONERAÇÂO PREVISTA NA LEI 12.844/2013
G9: BDI: | I9: 0.2423
G10: ENCARGOS SOCIAIS SOBRE PREÇOS DA MÃO-DE-OBRA: 110,61% (HORA) 68,86% (MÊS)
A13: PLANILHA ORÇAMENTÁRIA
A15: ITEM | B15: SERVIÇOS | C15: UNID. | D15: QUANTIDADE | E15: MATERIAL | F15: MÃO DE OBRA | G15: TOTAL UNIT. | H15: MATERIAL | I15: MÃO DE OBRA | J15: TOTAL | K15: REF. TÉCNICA SINAPI AGO/2021 SICRO JAN/21 | T15: MAT. | U15: M.O.
L16: JUNHO | M16: JULHO | N16: AGOSTO
A18: 1 | B18: SERVIÇOS INICIAIS | L18: 1.2423 | N18: 1.2423
A19: 1.1 | B19: IMPLANTAÇÃO DE PLACA DE OBRA (1,20X2,40M) | C19: unid | D19: =SUMIF($A$69:$A$194,A19,$D$69:$D$194) -> 1 | E19: =G19-F19 -> 2327.2 | F19: =TRUNC(G19*U19,2) -> 581.8 | G19: 2909 | H19: =SUMIF($A$69:$A$191,A19,$H$69:$H$190) -> 2327.2 | I19: =SUMIF($A$69:$A$191,A19,$I$69:$I$190) -> 581.8 | J19: =SUMIF($A$69:$A$191,A19,$J$69:$J$190) -> 2909 | K19: CPU 01 | L19: 2019.18 | N19: =CPU!H12 -> 2235.7 | U19: 0.2
A20: 1.2 | B20: SERVIÇOS TOPOGRÁFICOS PARA PAVIMENTAÇÃO | C20: m² | D20: =SUMIF($A$69:$A$194,A20,$D$69:$D$194) -> 1376.59 | E20: =G20-F20 -> 0.15 | F20: =TRUNC(G20*U20,2) -> 0.6 | G20: 0.75 | H20: =SUMIF($A$69:$A$191,A20,$H$69:$H$190) -> 206.49 | I20: =SUMIF($A$69:$A$191,A20,$I$69:$I$190) -> 825.95 | J20: =SUMIF($A$69:$A$191,A20,$J$69:$J$190) -> 1032.44 | K20: CPU 02 | L20: 0.53 | N20: =CPU!H28 -> 0.53 | U20: 0.8
A21: 1.3 | B21: MOBILIZAÇÃO E DESMOBILIZAÇÃO DE EQUIPAMENTOS | C21: unid | D21: =SUMIF($A$69:$A$194,A21,$D$69:$D$194) -> 1 | E21: =G21-F21 -> 2637.4 | F21: =TRUNC(G21*U21,2) -> 659.34 | G21: 3296.74 | H21: =SUMIF($A$69:$A$191,A21,$H$69:$H$190) -> 2637.4 | I21: =SUMIF($A$69:$A$191,A21,$I$69:$I$190) -> 659.34 | J21: =SUMIF($A$69:$A$191,A21,$J$69:$J$190) -> 3296.74 | K21: CPU 03 | L21: 6984.42 | N21: ='MOBILIZAÇÃO-CPU '!I47 -> 8381.304 | U21: 0.2
A22: 1.4 | B22: ADMINISTRAÇÃO LOCAL DE OBRA | C22: mês | D22: lore | E22: =G22-F22 -> 2759.9 | F22: =TRUNC(G22*U22,2) -> 11039.56 | G22: 13799.46 | H22: =SUMIF($A$69:$A$191,A22,$H$69:$H$190) -> 5519.8 | I22: =SUMIF($A$69:$A$191,A22,$I$69:$I$190) -> 22079.12 | J22: =SUMIF($A$69:$A$191,A22,$J$69:$J$190) -> 27598.92 | K22: CPU 04 | L22: 8742.72 | N22: ='ADM LOCAL-CPU'!J23 -> 8775.04 | U22: 0.8
A23: =CONCATENATE("TOTAL DO ITEM ",A18," - ",B18) -> TOTAL DO ITEM 1 - SERVIÇOS INICIAIS | H23: =SUM(H19:H22) -> 10690.89 | I23: =SUM(I19:I22) -> 24146.21 | J23: =SUM(J19:J22) -> 34837.1
A24: 2 | B24: TERRAPLENAGEM
A25: 2.1 | B25: ESCAVAÇÃO HORIZONTAL, INCLUINDO CARGA, DESCARGA E TRANSPORTE EM SOLO DE 1A CATEGORIA COM TRATOR DE ESTEIRAS (125HP/LÂMINA: 2,70M3) E CAMINHÃO BASCULANTE DE 10M3, DMT ATÉ 200M. AF_07/2020 | C25: m³ | D25: =SUMIF($A$69:$A$194,A25,$D$69:$D$194) -> 351.5 | E25: =G25-F25 -> 11.85 | F25: =TRUNC(G25*U25,2) -> 2.25 | G25: =ROUND(N25*$N$18,2) -> 14.1 | H25: =SUMIF($A$69:$A$191,A25,$H$69:$H$190) -> 4165.27 | I25: =SUMIF($A$69:$A$191,A25,$I$69:$I$190) -> 790.87 | J25: =SUMIF($A$69:$A$191,A25,$J$69:$J$190) -> 4956.14 | K25: 101138 | L25: 10.87 | N25: 11.35 | U25: 0.16
A26: 2.2 | B26: TRANSPORTE COM CAMINHÃO BASCULANTE DE 10 M³, EM VIA URBANA EM REVESTIMENTO PRIMÁRIO, DMT 1,0 KM (UNIDADE: M3XKM). AF_07/2020 | C26: m³ x km | D26: =SUMIF($A$69:$A$194,A26,$D$69:$D$194) -> 439.38 | E26: =G26-F26 -> 2 | F26: =TRUNC(G26*U26,2) -> 0.17 | G26: 2.17 | H26: =SUMIF($A$69:$A$191,A26,$H$69:$H$190) -> 878.76 | I26: =SUMIF($A$69:$A$191,A26,$I$69:$I$190) -> 74.69 | J26: =SUMIF($A$69:$A$191,A26,$J$69:$J$190) -> 953.45 | K26: 93589 | L26: 1.74 | N26: 1.9 | P26: 13.3 | U26: 0.08
A27: 2.3 | B27: REMOÇÃO DE SOLOS MOLES PARA ATÉ 600 MCS | C27: m³ | D27: =SUMIF($A$69:$A$194,A27,$D$69:$D$194) -> 50 | E27: =G27-F27 -> 10.86 | F27: =TRUNC(G27*U27,2) -> 2.06 | G27: =ROUND(N27*$N$18,2) -> 12.92 | H27: =SUMIF($A$69:$A$191,A27,$H$69:$H$190) -> 543 | I27: =SUMIF($A$69:$A$191,A27,$I$69:$I$190) -> 103 | J27: =SUMIF($A$69:$A$191,A27,$J$69:$J$190) -> 646 | K27: sicro 5502927 | N27: 10.4 | U27: 0.16
A28: 2.4 | B28: AQUISIÇÃO DE ARGILA PROVENIENTE DE JAZIDA | C28: m³ | D28: =SUMIF($A$69:$A$194,A28,$D$69:$D$194) -> 50 | E28: =G28-F28 -> 19.23 | F28: =TRUNC(G28*U28,2) -> 3.66 | G28: 22.89 | H28: =SUMIF($A$69:$A$191,A28,$H$69:$H$190) -> 961.5 | I28: =SUMIF($A$69:$A$191,A28,$I$69:$I$190) -> 183 | J28: =SUMIF($A$69:$A$191,A28,$J$69:$J$190) -> 1144.5 | K28: 6077 | N28: 16.76 | U28: 0.16
A29: 2.5 | B29: TRANSPORTE COM CAMINHÃO BASCULANTE DE 10 M³, EM VIA URBANA EM REVESTIMENTO PRIMÁRIO, DMT 15,40 KM (UNIDADE: M3XKM). AF_07/2020 | C29: m³ x km | D29: =SUMIF($A$69:$A$194,A29,$D$69:$D$194) -> 962.5 | E29: =G29-F29 -> 2 | F29: =TRUNC(G29*U29,2) -> 0.17 | G29: 2.17 | H29: =SUMIF($A$69:$A$191,A29,$H$69:$H$190) -> 1925 | I29: =SUMIF($A$69:$A$191,A29,$I$69:$I$190) -> 163.62 | J29: =SUMIF($A$69:$A$191,A29,$J$69:$J$190) -> 2088.62 | K29: 93589 | L29: 1.74 | N29: 1.9 | P29: 15.4 | U29: 0.08
A30: 2.6 | B30: EXECUÇÃO E COMPACTAÇÃO DE ATERRO COM SOLO PREDOMINANTEMENTE ARGILOSO - EXCLUSIVE SOLO, ESCAVAÇÃO, CARGA E TRANSPORTE. AF_11/2019 | C30: m³ | D30: =SUMIF($A$69:$A$194,A30,$D$69:$D$194) -> 50 | E30: =G30-F30 -> 10.33 | F30: =TRUNC(G30*U30,2) -> 1.96 | G30: 12.29 | H30: =SUMIF($A$69:$A$191,A30,$H$69:$H$190) -> 516.5 | I30: =SUMIF($A$69:$A$191,A30,$I$69:$I$190) -> 98 | J30: =SUMIF($A$69:$A$191,A30,$J$69:$J$190) -> 614.5 | K30: 96385 | N30: 8.78 | U30: 0.16
A31: 2.7 | B31: REGULARIZAÇÃO E COMPACTAÇÃO DE SUBLEITO DE SOLO PREDOMINANTEMENTE ARGILOSO. AF_11/2019 | C31: m² | D31: =SUMIF($A$69:$A$194,A31,$D$69:$D$194) -> 1705.39 | E31: =G31-F31 -> 2.22 | F31: =TRUNC(G31*U31,2) -> 0.42 | G31: 2.64 | H31: =SUMIF($A$69:$A$191,A31,$H$69:$H$190) -> 3785.97 | I31: =SUMIF($A$69:$A$191,A31,$I$69:$I$190) -> 716.25 | J31: =SUMIF($A$69:$A$191,A31,$J$69:$J$190) -> 4502.22 | K31: 100576 | L31: 1.74 | N31: 1.89 | U31: 0.16
A32: =CONCATENATE("TOTAL DO ITEM ",A24," - ",B24) -> TOTAL DO ITEM 2 - TERRAPLENAGEM | H32: =SUM(H25:H31) -> 12776 | I32: =SUM(I25:I31) -> 2129.43 | J32: =SUM(J25:J31) -> 14905.43
A33: 3 | B33: DRENAGEM
A34: 3.1 | B34: ESCAVAÇÃO MECANIZADA DE VALA COM PROF. ATÉ 1,5 M(MÉDIA ENTRE MONTANTE E JUSANTE/UMA COMPOSIÇÃO POR TRECHO), COM ESCAVADEIRA HIDRÁULICA (0,8 M3), LARG. DE 1,5M A 2,5 M, EM SOLO DE 1A CATEGORIA, LOCAIS COM BAIXO NÍVEL DE INTERFERÊNCIA. AF_02/2021 | C34: m³ | D34: =SUMIF($A$69:$A$194,A34,$D$69:$D$194) -> 61.44 | E34: =G34-F34 -> 6.2 | F34: =TRUNC(G34*U34,2) -> 1.17 | G34: =ROUND(N34*$N$18,2) -> 7.37 | H34: =SUMIF($A$69:$A$191,A34,$H$69:$H$190) -> 380.93 | I34: =SUMIF($A$69:$A$191,A34,$I$69:$I$190) -> 71.88 | J34: =SUMIF($A$69:$A$191,A34,$J$69:$J$190) -> 452.81 | K34: 90106 | N34: 5.93 | U34: 0.16
A35: 3.2 | B35: TRANSPORTE COM CAMINHÃO BASCULANTE DE 10 M³, EM VIA URBANA EM REVESTIMENTO PRIMÁRIO, DMT 13,30 KM (UNIDADE: M3XKM). AF_07/2020 | C35: m³ x km | D35: =SUMIF($A$69:$A$194,A35,$D$69:$D$194) -> 10.41 | E35: =G35-F35 -> 2 | F35: =TRUNC(G35*U35,2) -> 0.17 | G35: 2.17 | H35: =SUMIF($A$69:$A$191,A35,$H$69:$H$190) -> 20.82 | I35: =SUMIF($A$69:$A$191,A35,$I$69:$I$190) -> 1.76 | J35: =SUMIF($A$69:$A$191,A35,$J$69:$J$190) -> 22.58 | K35: 93589 | N35: 1.9 | P35: 13.3 | U35: 0.08
A36: 3.3 | B36: LASTRO DE BRITA PARA ASSENTAMENTO DOS TUBOS, EXCLUSIVE TRANPORTE | C36: m³ | D36: =SUMIF($A$69:$A$194,A36,$D$69:$D$194) -> 4.6 | E36: =G36-F36 -> 103.81 | F36: =TRUNC(G36*U36,2) -> 19.77 | G36: 123.58 | H36: =SUMIF($A$69:$A$191,A36,$H$69:$H$190) -> 477.52 | I36: =SUMIF($A$69:$A$191,A36,$I$69:$I$190) -> 90.94 | J36: =SUMIF($A$69:$A$191,A36,$J$69:$J$190) -> 568.46 | K36: 96624 | N36: 91.4 | U36: 0.16
A37: 3.4 | B37: TRANSPORTE COM CAMINHÃO BASCULANTE DE 10 M³, EM VIA URBANA PAVIMENTADA, DMT 26,30 KM (UNIDADE: M3XKM). AF_07/2020 | C37: m³ x km | D37: =SUMIF($A$69:$A$194,A37,$D$69:$D$194) -> 136.71 | E37: =G37-F37 -> 2 | F37: =TRUNC(G37*U37,2) -> 0.17 | G37: =ROUND(N37*$N$18,2) -> 2.17 | H37: =SUMIF($A$69:$A$191,A37,$H$69:$H$190) -> 273.42 | I37: =SUMIF($A$69:$A$191,A37,$I$69:$I$190) -> 23.23 | J37: =SUMIF($A$69:$A$191,A37,$J$69:$J$190) -> 296.65 | K37: 95875 | L37: 1.67 | N37: 1.75 | P37: 24 | U37: 0.08
A38: 3.5 | B38: TUBO DE CONCRETO SIMPLES PARA AGUAS PLUVIAIS, CLASSE PS-1, COM ENCAIXE MACHO FÊMEA, DIAMETRO NOMINAL DE 400 MM | C38: m | D38: =SUMIF($A$69:$A$194,A38,$D$69:$D$194) -> 24 | E38: =G38-F38 -> 57.74 | F38: =TRUNC(G38*U38,2) -> 0 | G38: =ROUND(N38*$N$18,2) -> 57.74 | H38: =SUMIF($A$69:$A$191,A38,$H$69:$H$190) -> 1385.76 | I38: =SUMIF($A$69:$A$191,A38,$I$69:$I$190) -> 0 | J38: =SUMIF($A$69:$A$191,A38,$J$69:$J$190) -> 1385.76 | K38: 37451 | N38: 46.48 | U38: 0
A39: 3.6 | B39: TUBO DE CONCRETO ARMADO PARA AGUAS PLUVIAIS, CLASSE PA-1, COM ENCAIXE MACHO FÊMEA, DIAMETRO NOMINAL DE 400 MM | C39: m | D39: =SUMIF($A$69:$A$194,A39,$D$69:$D$194) -> 22 | E39: =G39-F39 -> 118.76 | F39: =TRUNC(G39*U39,2) -> 0 | G39: =ROUND(N39*$N$18,2) -> 118.76 | H39: =SUMIF($A$69:$A$191,A39,$H$69:$H$190) -> 2612.72 | I39: =SUMIF($A$69:$A$191,A39,$I$69:$I$190) -> 0 | J39: =SUMIF($A$69:$A$191,A39,$J$69:$J$190) -> 2612.72 | K39: 7745 | N39: 95.6 | U39: 0
A40: 3.7 | B40: ASSENTAMENTO DE TUBO DE CONCRETO PARA REDES COLETORAS DE ÁGUAS PLUVIAIS, DIÂMETRO DE 400 MM, JUNTA RÍGIDA, INSTALADO EM LOCAL COM BAIXO NÍVEL DE INTERFERÊNCIAS (NÃO INCLUI FORNECIMENTO). AF_12/2015 | C40: m | D40: =SUMIF($A$69:$A$194,A40,$D$69:$D$194) -> 46 | E40: =G40-F40 -> 0 | F40: =TRUNC(G40*U40,2) -> 58.08 | G40: =ROUND(N40*$N$18,2) -> 58.08 | H40: =SUMIF($A$69:$A$191,A40,$H$69:$H$190) -> 0 | I40: =SUMIF($A$69:$A$191,A40,$I$69:$I$190) -> 2671.68 | J40: =SUMIF($A$69:$A$191,A40,$J$69:$J$190) -> 2671.68 | K40: 92809 | N40: 46.75 | U40: 1
A41: 3.8 | B41: REATERRO MECANIZADO DE VALA COM ESCAVADEIRA HIDRÁULICA (CAPACIDADE DA CAÇAMBA: 0,8 M³ / POTÊNCIA: 111 HP), LARGURA ATÉ 1,5 M, PROFUNDIDADE DE 1,5 A 3,0 M, COM SOLO DE 1ª CATEGORIA EM LOCAIS COM BAIXO NÍVEL DE INTERFERÊNCIA. AF_04/2016 | C41: m³ | D41: =SUMIF($A$69:$A$194,A41,$D$69:$D$194) -> 53.11 | E41: =G41-F41 -> 19.64 | F41: =TRUNC(G41*U41,2) -> 3.74 | G41: 23.38 | H41: =SUMIF($A$69:$A$191,A41,$H$69:$H$190) -> 1043.09 | I41: =SUMIF($A$69:$A$191,A41,$I$69:$I$190) -> 198.62 | J41: =SUMIF($A$69:$A$191,A41,$J$69:$J$190) -> 1241.71 | K41: 93368 | N41: 14.71 | U41: 0.16
A42: 3.9 | B42: CAIXA COLETORA COM PAREDES EM PEDRA GRÊS, 0,80x0,80, COM FUNDO E TAMPA DE CONCRETO | C42: unid | D42: =SUMIF($A$69:$A$194,A42,$D$69:$D$194) -> 5 | E42: =G42-F42 -> 1557.52 | F42: =TRUNC(G42*U42,2) -> 296.66 | G42: =ROUND(N42*$N$18,2) -> 1854.18 | H42: =SUMIF($A$69:$A$191,A42,$H$69:$H$190) -> 7787.6 | I42: =SUMIF($A$69:$A$191,A42,$I$69:$I$190) -> 1483.3 | J42: =SUMIF($A$69:$A$191,A42,$J$69:$J$190) -> 9270.9 | K42: CPU 09 | N42: =CPU!H148 -> 1492.54 | U42: 0.16
A43: =CONCATENATE("TOTAL DO ITEM ",A33," - ",B33) -> TOTAL DO ITEM 3 - DRENAGEM | H43: =SUM(H34:H42) -> 13981.86 | I43: =SUM(I34:I42) -> 4541.41 | J43: =SUM(J34:J42) -> 18523.27
A44: 4 | B44: PAVIMENTAÇÃO
A45: 4.1 | B45: EXECUÇÃO E COMPACTAÇÃO DE BASE E OU SUB BASE PARA PAVIMENTAÇÃO DE MACADAME SECO (E = 15 CM) - EXCLUSIVE CARGA E TRANSPORTE. AF_11/2019 | C45: m³ | D45: =SUMIF($A$69:$A$194,A45,$D$69:$D$194) -> 241.59 | E45: =G45-F45 -> 109.35 | F45: =TRUNC(G45*U45,2) -> 14.91 | G45: 124.26 | H45: =SUMIF($A$69:$A$191,A45,$H$69:$H$190) -> 26417.87 | I45: =SUMIF($A$69:$A$191,A45,$I$69:$I$190) -> 3602.1 | J45: =SUMIF($A$69:$A$191,A45,$J$69:$J$190) -> 30019.97 | K45: 96400 | L45: 68.01 | N45: 90.53 | U45: 0.12
A46: 4.2 | B46: TRANSPORTE COM CAMINHÃO BASCULANTE DE 10 M³, EM VIA URBANA PAVIMENTADA , DMT 26,30 KM (UNIDADE: M3XKM). AF_07/2020 | C46: m³ x km | D46: =SUMIF($A$69:$A$194,A46,$D$69:$D$194) -> 6989.2 | E46: =G46-F46 -> 1.85 | F46: =TRUNC(G46*U46,2) -> 0.16 | G46: 2.01 | H46: =SUMIF($A$69:$A$191,A46,$H$69:$H$190) -> 12930.01 | I46: =SUMIF($A$69:$A$191,A46,$I$69:$I$190) -> 1118.27 | J46: =SUMIF($A$69:$A$191,A46,$J$69:$J$190) -> 14048.28 | K46: 95875 | L46: 1.67 | N46: 1.75 | P46: 26.3 | U46: 0.08
...

Sheet CRON. MACRO
A2: =ORÇAMENTO!$A$7 -> CRUZEIRO DO SUL/RS | N2: =ORÇAMENTO!I2 -> Cruzeiro do Sul/RS, janeiro de 2022
A3: =ORÇAMENTO!A8 -> LINHA SÍTIO
A5: =ORÇAMENTO!$B$9 -> 0
A8: CRONOGRAMA FÍSICO/FINANCEIRO - LINHA SÍTIO
A10: ITEM | B10: DESCRIÇÃO DOS SERVIÇOS | C10: TOTAL | D10: % | E10: 1º MÊS | G10: 2º MÊS | I10: 3º MÊS | K10: 4º MÊS | M10: 5º MÊS
E11: % mês | F11: R$ | G11: % mês | H11: R$ | I11: % mês | J11: R$ | K11: % mês | L11: R$ | M11: % mês | N11: R$
A12: 1 | B12: =VLOOKUP($A12,ORÇAMENTO!$A$15:$J$63,2,FALSE) -> SERVIÇOS INICIAIS | C12: =ORÇAMENTO!J23 -> 34837.1 | D12: =C12/$C$17 -> 0.12079932 | E12: 0.4 | F12: =ROUND($C12*E12,2) -> 13934.84 | G12: 0.6 | H12: =ROUND($C12*G12,2) -> 20902.26 | J12: =ROUND($C12*I12,2) -> 0 | L12: =ROUND($C12*K12,2) -> 0 | N12: =ROUND($C12*M12,2) -> 0
A13: 2 | B13: =VLOOKUP($A13,ORÇAMENTO!$A$15:$J$63,2,FALSE) -> TERRAPLENAGEM | C13: =ORÇAMENTO!J32 -> 14905.43 | D13: =C13/$C$17 -> 0.051685294 | E13: 0.7 | F13: =ROUND($C13*E13,2) -> 10433.8 | G13: 0.3 | H13: =ROUND($C13*G13,2) -> 4471.63 | J13: =ROUND($C13*I13,2) -> 0 | L13: =ROUND($C13*K13,2) -> 0 | N13: =ROUND($C13*M13,2) -> 0
A14: 3 | B14: =VLOOKUP($A14,ORÇAMENTO!$A$15:$J$63,2,FALSE) -> DRENAGEM | C14: =ORÇAMENTO!J43 -> 18523.27 | D14: =C14/$C$17 -> 0.064230328 | E14: 0.6 | F14: =ROUND($C14*E14,2) -> 11113.96 | G14: 0.4 | H14: =ROUND($C14*G14,2) -> 7409.31 | J14: =ROUND($C14*I14,2) -> 0 | L14: =ROUND($C14*K14,2) -> 0 | N14: =ROUND($C14*M14,2) -> 0
A15: 4 | B15: =VLOOKUP($A15,ORÇAMENTO!$A$15:$J$63,2,FALSE) -> PAVIMENTAÇÃO | C15: =ORÇAMENTO!J53 -> 209307.2 | D15: =C15/$C$17 -> 0.72578277 | E15: 0.25 | F15: =ROUND($C15*E15,2) -> 52326.8 | G15: 0.75 | H15: =ROUND($C15*G15,2) -> 156980.4 | J15: =ROUND($C15*I15,2) -> 0 | L15: =ROUND($C15*K15,2) -> 0 | N15: =ROUND($C15*M15,2) -> 0
A16: 5 | B16: =VLOOKUP($A16,ORÇAMENTO!$A$15:$J$63,2,FALSE) -> SINALIZAÇÃO | C16: =ORÇAMENTO!J62 -> 10815.22 | D16: =C16/$C$17 -> 0.037502295 | F16: =ROUND($C16*E16,2) -> 0 | G16: 1 | H16: =ROUND($C16*G16,2) -> 10815.22 | J16: =ROUND($C16*I16,2) -> 0 | L16: =ROUND($C16*K16,2) -> 0 | N16: =ROUND($C16*M16,2) -> 0
A17: TOTAIS | C17: =SUM(C12:C16) -> 288388.22 | D17: =SUM(D12:D16) -> 1 | E17: =F17/$C17 -> 0.30448331 | F17: =SUM(F12:F16) -> 87809.4 | G17: =H17/$C17 -> 0.69551669 | H17: =SUM(H12:H16) -> 200578.82 | I17: =J17/$C17 -> 0 | J17: =SUM(J12:J16) -> 0 | K17: =L17/$C17 -> 0 | L17: =SUM(L12:L16) -> 0 | N17: =SUM(N12:N16) -> 0
A18: TOTAL ACUMULADO (R$) | E18: =E17 -> 0.30448331 | F18: =F17 -> 87809.4 | G18: =E18+G17 -> 1 | H18: =H17+F18 -> 288388.22 | I18: =G18+I17 -> 1 | J18: =J17+H18 -> 288388.22 | K18: =I18+K17 -> 1 | L18: =L17+J18 -> 288388.22 | M18: =K18+M17 -> 1 | N18: =N17+L18 -> 288388.22
C25: =ORÇAMENTO!B68 -> Eng. Civil Lorenzo Schnorr Fornari | I25: =ORÇAMENTO!F130 -> Prefeitura Municipal
C26: =ORÇAMENTO!B69 -> CREA RS247702 | I26: =ORÇAMENTO!F131 -> de Cruzeiro do Sul/RS

Sheet BDI
A3: =ORÇAMENTO!A7 -> CRUZEIRO DO SUL/RS | F3: =ORÇAMENTO!I2 -> Cruzeiro do Sul/RS, janeiro de 2022
A4: =ORÇAMENTO!A8 -> LINHA SÍTIO
A9: Cálculo do BDI – Conforme o Acórdão 2.622/2013 – TCU – PLENÁRIO
A10: INFRAESTRUTURA E PAVIMENTAÇÃO ASFÁLTICA DA LINHA SÍTIO
A11: CRUZEIRO DO SUL - RS
A14: Tipo de Obra | B14: Item Componente | C14: Taxas de BDI (%) | F14: Valores
C15: 1° Quartil | D15: Médio | E15: 3° Quartil | F15: Propostos (%)
A16: Construção de Rodovias e Ferrovias | B16: Administração Central (AC) | C16: 3.8 | D16: 4.01 | E16: 4.67 | F16: =E16 -> 4.67
B17: Seguro + Garantia (S+G) | C17: 0.32 | D17: 0.4 | E17: 0.74 | F17: =E17 -> 0.74
B18: Riscos (R) | C18: 0.5 | D18: 0.56 | E18: 0.97 | F18: =E18 -> 0.97
B19: Despesas Financeiras (DF) | C19: 1.02 | D19: 1.11 | E19: 1.21 | F19: =E19 -> 1.21
B20: Lucro (L) | C20: 6.64 | D20: 7.3 | E20: 8.69 | F20: 8.29
B21: Tributos - ISS, PIS, COFINS, CPRB - (T) | C21: Conforme legislação específica | F21: 6.15
F22: 24.23 | H22: CPRB sem des. = | I22: 0
F23: Adotado/Calculado
H25: SELIC (Dezembro) | I25: 14.14
A26: Fórmula utilizada para o cálculo (Acórdão 2.622/2013 – TCU – PLENÁRIO): | H26: DF= | I26: 1.0105518
A28: BDI = {[(1 + AC + S + R + G) x (1 + DF) x (1 + L)] / (1 – T)} - 1
A30: Onde:
A31: PIS = 0,65 %
A32: ISS = 2,50 %
A33: COFINS = 3,00 %
A34: CPRB = 0,00 %
A35: Total de Tributos (T) = 6,15 %
B40: =ORÇAMENTO!B130 -> Eng. Civil Lorenzo Schnorr Fornari | E40: =ORÇAMENTO!F130 -> Prefeitura Municipal
B41: =ORÇAMENTO!B131 -> CREA RS247702 | E41: =ORÇAMENTO!F131 -> de Cruzeiro do Sul/RS

Sheet Encargos Sociais
B2: =ORÇAMENTO!A7 -> CRUZEIRO DO SUL/RS | E2: =ORÇAMENTO!I2 -> Cruzeiro do Sul/RS, janeiro de 2022
B3: =ORÇAMENTO!A8 -> LINHA SÍTIO
B6: RIO GRANDE DO SUL
B9: ENCARGOS SOCIAIS SOBRE A MÃO DE OBRA
B10: CÓDIGO | C10: DESCRIÇÃO | D10: SEM DESONERAÇÃO | J10: COM DESONERAÇÃO | L10: SEM DESONERAÇÃO
D11: HORISTA | E11: MENSALISTA | J11: HORISTA | K11: MENSALISTA | L11: HORISTA | M11: MENSALISTA
D12: % | E12: % | J12: % | K12: % | L12: % | M12: %
B13: GRUPO A
B14: A1 | C14: INSS | D14: =IF($D$10="COM DESONERAÇÃO",J14,L14) -> 0.2 | E14: =IF($D$10="COM DESONERAÇÃO",K14,M14) -> 0.2 | J14: 0 | K14: 0 | L14: 0.2 | M14: 0.2
B15: A2 | C15: SESI | D15: =IF($D$10="COM DESONERAÇÃO",J15,L15) -> 0.015 | E15: =IF($D$10="COM DESONERAÇÃO",K15,M15) -> 0.015 | J15: 0.015 | K15: 0.015 | L15: 0.015 | M15: 0.015
B16: A3 | C16: SENAI | D16: =IF($D$10="COM DESONERAÇÃO",J16,L16) -> 0.01 | E16: =IF($D$10="COM DESONERAÇÃO",K16,M16) -> 0.01 | J16: 0.01 | K16: 0.01 | L16: 0.01 | M16: 0.01
B17: A4 | C17: INCRA | D17: =IF($D$10="COM DESONERAÇÃO",J17,L17) -> 0.002 | E17: =IF($D$10="COM DESONERAÇÃO",K17,M17) -> 0.002 | J17: 0.002 | K17: 0.002 | L17: 0.002 | M17: 0.002
B18: A5 | C18: SEBRAE | D18: =IF($D$10="COM DESONERAÇÃO",J18,L18) -> 0.006 | E18: =IF($D$10="COM DESONERAÇÃO",K18,M18) -> 0.006 | J18: 0.006 | K18: 0.006 | L18: 0.006 | M18: 0.006
B19: A6 | C19: Salário Educação | D19: =IF($D$10="COM DESONERAÇÃO",J19,L19) -> 0.025 | E19: =IF($D$10="COM DESONERAÇÃO",K19,M19) -> 0.025 | J19: 0.025 | K19: 0.025 | L19: 0.025 | M19: 0.025
B20: A7 | C20: Seguro Contra Acidentes de Trabalho | D20: =IF($D$10="COM DESONERAÇÃO",J20,L20) -> 0.03 | E20: =IF($D$10="COM DESONERAÇÃO",K20,M20) -> 0.03 | J20: 0.03 | K20: 0.03 | L20: 0.03 | M20: 0.03
B21: A8 | C21: FGTS | D21: =IF($D$10="COM DESONERAÇÃO",J21,L21) -> 0.08 | E21: =IF($D$10="COM DESONERAÇÃO",K21,M21) -> 0.08 | J21: 0.08 | K21: 0.08 | L21: 0.08 | M21: 0.08
B22: A9 | C22: SECONCI | D22: =IF($D$10="COM DESONERAÇÃO",J22,L22) -> 0 | E22: =IF($D$10="COM DESONERAÇÃO",K22,M22) -> 0 | J22: 0 | K22: 0 | L22: 0 | M22: 0
B23: A | C23: Total | D23: =IF($D$10="COM DESONERAÇÃO",J23,L23) -> 0.368 | E23: =IF($D$10="COM DESONERAÇÃO",K23,M23) -> 0.368 | J23: =SUM(J14:J22) -> 0.168 | K23: =SUM(K14:K22) -> 0.168 | L23: =SUM(L14:L22) -> 0.368 | M23: =SUM(M14:M22) -> 0.368
B24: GRUPO B
B25: B1 | C25: Repouso Semanal Remunerado | D25: =IF($D$10="COM DESONERAÇÃO",J25,L25) -> 0.1793 | E25: =IF($D$10="COM DESONERAÇÃO",K25,M25) -> Não incide | J25: 0.1793 | K25: Não incide | L25: 0.1793 | M25: Não incide
B26: B2 | C26: Feriados | D26: =IF($D$10="COM DESONERAÇÃO",J26,L26) -> 0.0424 | E26: =IF($D$10="COM DESONERAÇÃO",K26,M26) -> Não incide | J26: 0.0424 | K26: Não incide | L26: 0.0424 | M26: Não incide
B27: B3 | C27: Auxílio - Enfermidade | D27: =IF($D$10="COM DESONERAÇÃO",J27,L27) -> 0.0089 | E27: =IF($D$10="COM DESONERAÇÃO",K27,M27) -> 0.0069 | J27: 0.0089 | K27: 0.0069 | L27: 0.0089 | M27: 0.0069
B28: B4 | C28: 13º Salário | D28: =IF($D$10="COM DESONERAÇÃO",J28,L28) -> 0.1077 | E28: =IF($D$10="COM DESONERAÇÃO",K28,M28) -> 0.0833 | J28: 0.1077 | K28: 0.0833 | L28: 0.1077 | M28: 0.0833
B29: B5 | C29: Licença Paternidade | D29: =IF($D$10="COM DESONERAÇÃO",J29,L29) -> 0.0007 | E29: =IF($D$10="COM DESONERAÇÃO",K29,M29) -> 0.0006 | J29: 0.0007 | K29: 0.0006 | L29: 0.0007 | M29: 0.0006
B30: B6 | C30: Faltas Justificadas | D30: =IF($D$10="COM DESONERAÇÃO",J30,L30) -> 0.0072 | E30: =IF($D$10="COM DESONERAÇÃO",K30,M30) -> 0.0056 | J30: 0.0072 | K30: 0.0056 | L30: 0.0072 | M30: 0.0056
B31: B7 | C31: Dias de Chuvas | D31: =IF($D$10="COM DESONERAÇÃO",J31,L31) -> 0.0153 | E31: =IF($D$10="COM DESONERAÇÃO",K31,M31) -> Não incide | J31: 0.0153 | K31: Não incide | L31: 0.0153 | M31: Não incide
B32: B8 | C32: Auxílio Acidente de Trabalho | D32: =IF($D$10="COM DESONERAÇÃO",J32,L32) -> 0.0011 | E32: =IF($D$10="COM DESONERAÇÃO",K32,M32) -> 0.0009 | J32: 0.0011 | K32: 0.0009 | L32: 0.0011 | M32: 0.0009
B33: B9 | C33: Férias Gozadas | D33: =IF($D$10="COM DESONERAÇÃO",J33,L33) -> 0.074 | E33: =IF($D$10="COM DESONERAÇÃO",K33,M33) -> 0.0572 | J33: 0.074 | K33: 0.0572 | L33: 0.074 | M33: 0.0572
B34: B10 | C34: Salário Maternidade | D34: =IF($D$10="COM DESONERAÇÃO",J34,L34) -> 0.0003 | E34: =IF($D$10="COM DESONERAÇÃO",K34,M34) -> 0.0003 | J34: 0.0003 | K34: 0.0003 | L34: 0.0003 | M34: 0.0003
B35: B | C35: Total | D35: =IF($D$10="COM DESONERAÇÃO",J35,L35) -> 0.4369 | E35: =IF($D$10="COM DESONERAÇÃO",K35,M35) -> 0.1548 | J35: =SUM(J25:J34) -> 0.4369 | K35: =SUM(K25:K34) -> 0.1548 | L35: =SUM(L25:L34) -> 0.4369 | M35: =SUM(M25:M34) -> 0.1548
B36: GRUPO C
B37: C1 | C37: Aviso Prévio Indenizado | D37: =IF($D$10="COM DESONERAÇÃO",J37,L37) -> 0.0428 | E37: =IF($D$10="COM DESONERAÇÃO",K37,M37) -> 0.0332 | J37: 0.0428 | K37: 0.0332 | L37: 0.0428 | M37: 0.0332
B38: C2 | C38: Aviso Prévio Trabalhado | D38: =IF($D$10="COM DESONERAÇÃO",J38,L38) -> 0.001 | E38: =IF($D$10="COM DESONERAÇÃO",K38,M38) -> 0.0008 | J38: 0.001 | K38: 0.0008 | L38: 0.001 | M38: 0.0008
B39: C3 | C39: Férias Indenizadas | D39: =IF($D$10="COM DESONERAÇÃO",J39,L39) -> 0.0529 | E39: =IF($D$10="COM DESONERAÇÃO",K39,M39) -> 0.0409 | J39: 0.0529 | K39: 0.0409 | L39: 0.0529 | M39: 0.0409
B40: C4 | C40: Depósito Rescisão Sem Justa Causa | D40: =IF($D$10="COM DESONERAÇÃO",J40,L40) -> 0.0363 | E40: =IF($D$10="COM DESONERAÇÃO",K40,M40) -> 0.0281 | J40: 0.0363 | K40: 0.0281 | L40: 0.0363 | M40: 0.0281
B41: C5 | C41: Indenização Adicional | D41: =IF($D$10="COM DESONERAÇÃO",J41,L41) -> 0.0036 | E41: =IF($D$10="COM DESONERAÇÃO",K41,M41) -> 0.0028 | J41: 0.0036 | K41: 0.0028 | L41: 0.0036 | M41: 0.0028
B42: C | C42: Total | D42: =IF($D$10="COM DESONERAÇÃO",J42,L42) -> 0.1366 | E42: =IF($D$10="COM DESONERAÇÃO",K42,M42) -> 0.1058 | J42: =SUM(J37:J41) -> 0.1366 | K42: =SUM(K37:K41) -> 0.1058 | L42: =SUM(L37:L41) -> 0.1366 | M42: =SUM(M37:M41) -> 0.1058
B43: GRUPO D
B44: D1 | C44: Reincidência de Grupo A sobre Grupo B | D44: =IF($D$10="COM DESONERAÇÃO",J44,L44) -> 0.1608 | E44: =IF($D$10="COM DESONERAÇÃO",K44,M44) -> 0.057 | J44: 0.0734 | K44: 0.026 | L44: 0.1608 | M44: 0.057
B45: D2 | C45: Reincidência de Grupo A sobre Aviso Prévio Trabalhado e Reincidência do FGTS sobre Aviso Prévio Indenizado | D45: =IF($D$10="COM DESONERAÇÃO",J45,L45) -> 0.0038 | E45: =IF($D$10="COM DESONERAÇÃO",K45,M45) -> 0.003 | J45: 0.0036 | K45: 0.0028 | L45: 0.0038 | M45: 0.003
...

Sheet MOBILIZAÇÃO-CPU 
A4: CPU 03
H5: =ORÇAMENTO!I2 -> Cruzeiro do Sul/RS, janeiro de 2022
A6: CRUZEIRO DO SUL/RS - RS
A7: RODOVIA RS 130
A12: DEMONSTRATIVO DE MOBILIZAÇÃO E DESMOBILIZAÇÃO DE EQUIPAMENTOS
D14: Distâncias de Transporte:
H15: Velocidade média (km/h): | I15: 40
H16: Tempo médio de viagem (h): | I16: =E18/I15/24 -> 0.025
D18: Adotada: | E18: 24 | F18: km
A21: ITEM | B21: DESCRIÇÃO | C21: QUANTIDADE | D21: TEMPO DE VIAGEM | E21: REFERÊNCIA DE PREÇO | G21: NÚMERO DE VIAGENS | H21: VALOR UNITÁRIO (R$/H) | I21: VALOR TOTAL (R$)
E22: TABELA | F22: CÓDIGO
A23: 1 | B23: Transporte de equipamentos pesados
A24: 1.1 | B24: Deslocamento com cavalo mecânico + reboque | C24: =SUM(C25:C34) -> 20 | D24: =$E$18/$I$15 -> 0.6 | E24: SICRO 2 | F24: A9321 | G24: 2 | H24: 200.88 | I24: =ROUND(H24*G24*D24*C24,2) -> 4821.12
A25: 1.2 | B25: Trator de esteiras | C25: 2
A26: 1.3 | B26: Motoniveladora | C26: 2
A27: 1.4 | B27: Retroescavadeira | C27: 2
A28: 1.5 | B28: Escavadeira hidráulica | C28: 2
A29: 1.6 | B29: Rolo compactador liso | C29: 2
A30: 1.7 | B30: Rolo compactador pneus | C30: 2
A31: 1.8 | B31: Rolo compactador pé de carneiro | C31: 2
A32: 1.9 | B32: Rolo compactador pé de tandem | C32: 2
A33: 1.10 | B33: Vibro-acabadora de asfalto | C33: 2
A34: 1.11 | B34: Trator agrícola | C34: 2
H35: SUBTOTAL | I35: =SUM(I24:I34) -> 4821.12
A37: 2 | B37: Deslocamento de veículos
A38: 2.1 | B38: Distribuidor de asfalto | C38: 2 | D38: =$E$18/$I$15 -> 0.6 | E38: SICRO 2 | F38: E9509 | G38: 2 | H38: 159.23 | I38: =H38*G38*D38*C38 -> 382.152
A39: 2.2 | B39: Caminhão tanque | C39: 2 | D39: =$E$18/$I$15 -> 0.6 | E39: SICRO 2 | F39: E9669 | G39: 2 | H39: 160.43 | I39: =H39*G39*D39*C39 -> 385.032
A40: 2.3 | B40: Caminhão pipa | C40: 2 | D40: =$E$18/$I$15 -> 0.6 | E40: SICRO 2 | F40: E9571 | G40: 2 | H40: 196.06 | I40: =H40*G40*D40*C40 -> 470.544
A41: 2.4 | B41: Caminhão basculante 6 m³ | C41: 4 | D41: =$E$18/$I$15 -> 0.6 | E41: SICRO 2 | F41: E9506 | G41: 2 | H41: 114.04 | I41: =H41*G41*D41*C41 -> 547.392
A42: 2.5 | B42: Caminhão basculante 10 m³ | C42: 8 | D42: =$E$18/$I$15 -> 0.6 | E42: SICRO 2 | F42: E9579 | G42: 2 | H42: 156.24 | I42: =H42*G42*D42*C42 -> 1499.904
A43: 2.6 | B43: Caminhão carroceria | C43: 2 | D43: =$E$18/$I$15 -> 0.6 | E43: SICRO 2 | F43: E9508 | G43: 2 | H43: 114.65 | I43: =H43*G43*D43*C43 -> 275.16
H44: SUBTOTAL | I44: =SUM(I38:I43) -> 3560.184
H47: TOTAL | I47: =I44+I35 -> 8381.304
H48: BDI = 24,23% | I48: =ROUND(I47*0.2423,2) -> 2030.79
A49: SICRO JANEIRO/2021 | H49: TOTAL GERAL | I49: =I47+I48 -> 10412.094

Sheet ADM LOCAL-CPU
A4: CPU 04
I6: ='MOBILIZAÇÃO-CPU '!$H$5 -> Cruzeiro do Sul/RS, janeiro de 2022
A8: ='MOBILIZAÇÃO-CPU '!A6 -> CRUZEIRO DO SUL/RS - RS
A9: ='MOBILIZAÇÃO-CPU '!A7 -> RODOVIA RS 130
A13: DEMONSTRATIVO DE ADMINISTRAÇÃO LOCAL
A18: ITEM | B18: DESCRIÇÃO | C18: QUANTIDADE | D18: USO PROD. (h) | E18: USO IMP. (h) | F18: REFERÊNCIA DE PREÇO | H18: VALOR HORA PRODUTIVO (R$/H) | I18: VALOR HORA IMPRODUTIVO (R$/H) | J18: VALOR TOTAL (R$)
F19: TABELA | G19: CÓDIGO
A20: 1 | B20: Equipe Técnica da Obra
A21: 1.1 | B21: Engenheiro Pleno | C21: 1 | D21: =TRUNC(4*2*4,2) -> 32 | F21: SINAPI | G21: 2707 | H21: 105.1 | J21: =H21*D21 -> 3363.2
A22: 1.2 | B22: Encarregado Geral | C22: 1 | D22: =TRUNC(4*4*8,2) -> 128 | F22: SINAPI | G22: 4083 | H22: 42.28 | J22: =H22*D22 -> 5411.84
I23: TOTAL | J23: =SUM(J21:J22) -> 8775.04
I24: BDI = 24,23% | J24: =ROUND(J23*0.2423,2) -> 2126.19
A25: SINAPI AGO/2021 | I25: TOTAL GERAL | J25: =J23+J24 -> 10901.23

Sheet CPU
A1: =ORÇAMENTO!I2 -> Cruzeiro do Sul/RS, janeiro de 2022
A3: SINAPI - SISTEMA NACIONAL DE PESQUISA DE CUSTOS E ÍNDICES DA CONSTRUÇÃO CIVIL (COMPOSIÇÃO DE PREÇOS UNITÁRIOS)
A5: CPU 01 | D5: PLACA RETANGULAR 1,20 x 2,40 M (INFORMAÇÃO) - SUPORTE METÁLICO | H5: UNIDADE
A6: ORDEM | B6: REFERÊNCIA | C6: CÓDIGO | D6: DESCRIÇÃO | E6: UNIDADE | F6: COEFICIENTE | G6: CUSTO UNIT. (R$) | H6: TOTAL (R$)
A7: 1 | B7: SINAPI | C7: 34723 | D7: PLACA DE SINALIZACAO EM CHAPA DE ACO NUM 16 COM PINTURA REFLETIVA | E7: M2 | F7: 2.88 | G7: 519.75 | H7: =ROUND(F7*G7,2) -> 1496.88
A8: 2 | B8: SINAPI | C8: 21014 | D8: TUBO ACO GALVANIZADO COM COSTURA, CLASSE LEVE, DN 65 MM ( 2 1/2"), E = 3,35 MM, * 6,23* KG/M (NBR 5580) | E8: M | F8: 5 | G8: 140.66 | H8: =ROUND(F8*G8,2) -> 703.3
A9: 3 | B9: SINAPI | C9: 88316 | D9: SERVENTE COM ENCARGOS COMPLEMENTARES | E9: h | F9: 2 | G9: 17.76 | H9: =ROUND(F9*G9,2) -> 35.52
F12: CUSTO (m²) | H12: =SUM(H7:H11) -> 2235.7
A13: OBS: | F13: BDI = | G13: 0.2423 | H13: =ROUND(H12*G13,2) -> 541.71
F15: PREÇO FINAL | H15: =H12+H13 -> 2777.41
A18: CPU 02 | D18: SERVICOS TOPOGRAFICOS PARA PAVIMENTACAO, INCLUSIVE NOTA DE SERVICOS, ACOMPANHAMENTO E GREIDE | H18: M2
A19: ORDEM | B19: REFERÊNCIA | C19: CÓDIGO | D19: DESCRIÇÃO | E19: UNIDADE | F19: COEFICIENTE | G19: CUSTO UNIT. (R$) | H19: TOTAL (R$)
A20: 1 | B20: SINAPI | C20: 4460 | D20: SARRAFO NAO APARELHADO *2,5 X 10* CM, EM MACARANDUBA, ANGELIM OU EQUIVALENTE DA REGIAO - BRUTA | E20: M | F20: 0.00288 | G20: 5.61 | H20: =ROUND(F20*G20,2) -> 0.02
A21: 2 | B21: SINAPI | C21: 90781 | D21: TOPOGRAFO COM ENCARGOS COMPLEMENTARES | E21: h | F21: 0.0075 | G21: 31.8 | H21: =ROUND(F21*G21,2) -> 0.24
A22: 3 | B22: SINAPI | C22: 88253 | D22: AUXILIAR DE TOPÓGRAFO COM ENCARGOS COMPLEMENTARES | E22: h | F22: 0.0025 | G22: 13.69 | H22: =ROUND(F22*G22,2) -> 0.03
A23: 4 | B23: SINAPI | C23: 88288 | D23: NIVELADOR COM ENCARGOS COMPLEMENTARES | E23: h | F23: 0.0025 | G23: 16.94 | H23: =ROUND(F23*G23,2) -> 0.04
A24: 5 | B24: SINAPI | C24: 88316 | D24: SERVENTE COM ENCARGOS COMPLEMENTARES | E24: h | F24: 0.0075 | G24: 17.76 | H24: =ROUND(F24*G24,2) -> 0.13
A25: 6 | B25: SINAPI | C25: 92145 | D25: CAMINHONETE CABINE SIMPLES COM MOTOR 1.6 FLEX, CÂMBIO MANUAL, POTÊNCIA 101/104 CV, 2 PORTAS - CHP DIURNO. AF_11/2015 | E25: CHP | F25: 0.001 | G25: 69.66 | H25: =ROUND(F25*G25,2) -> 0.07
F28: CUSTO (m²) | H28: =SUM(H20:H27) -> 0.53
A29: OBS: | F29: BDI = | G29: 0.2423 | H29: =ROUND(H28*G29,2) -> 0.13
F31: PREÇO FINAL | H31: =H28+H29 -> 0.66
A34: 96401 - CPU 05 | D34: EXECUÇÃO DE IMPRIMAÇÃO COM ASFALTO DILUÍDO CM-30. AF_11/2019 | H34: M2
A35: ORDEM | B35: REFERÊNCIA | C35: CÓDIGO | D35: DESCRIÇÃO | E35: UNIDADE | F35: COEFICIENTE | G35: CUSTO UNIT. (R$) | H35: TOTAL (R$)
A36: 1 | B36: SINAPI | C36: 5839 | D36: VASSOURA MECÂNICA REBOCÁVEL C/ ESCOVA CILÍNDRICA LARGURA = 2,44M - CHP DIURNO | E36: CHP | F36: 0.0017 | G36: 9.35 | H36: =ROUND(F36*G36,2) -> 0.02
A37: 2 | B37: SINAPI | C37: 41901 | D37: ASFALTO DILUIDO DE PETROLEO CM-30 (INCLUSIVE IMPOSTOS) | E37: kg | F37: 1.2 | G37: =ROUND(5.45*(1+0.0165+0.076),2) -> 5.95 | H37: =ROUND(F37*G37,2) -> 7.14
A38: 3 | B38: SINAPI | C38: 83362 | D38: ESPARGIDOR DE ASFALTO PRESSURIZADO, TANQUE 6 M3 COM ISOLAÇÃO TÉRMICA AQUECIDO COM 2 MAÇARICOS, COM BARRA ESPARGIDORA 3,60 M, MONTADO SOBRE CAMINHÃO TOCO, PBT 14.300 KG, POTÊNCIA 185 CV - CHP DIURNO. AF_08/2015 | E38: CHP | F38: 0.001 | G38: 224.37 | H38: =ROUND(F38*G38,2) -> 0.22
A39: 4 | B39: SINAPI | C39: 88316 | D39: SERVENTE COM ENCARGOS COMPLEMENTARES | E39: h | F39: 0.002 | G39: 17.76 | H39: =ROUND(F39*G39,2) -> 0.04
A40: 5 | B40: SINAPI | C40: 89035 | D40: TRATOR DE PNEUS, POTÊNCIA 85 CV, TRAÇÃO 4X4, PESO COM LASTRO DE 4.675 KG - CHP DIURNO. AF_06/2014 | E40: CHP | F40: 0.0017 | G40: 142.68 | H40: =ROUND(F40*G40,2) -> 0.24
A41: 6 | B41: SINAPI | C41: 89036 | D41: TRATOR DE PNEUS, POTÊNCIA 85 CV, TRAÇÃO 4X4, PESO COM LASTRO DE 4.675 KG - CHI DIURNO. AF_06/2014 | E41: CHI | F41: 0.0014 | G41: 40.88 | H41: =ROUND(F41*G41,2) -> 0.06
A42: 7 | B42: SINAPI | C42: 91486 | D42: ESPARGIDOR DE ASFALTO PRESSURIZADO, TANQUE 6 M3 COM ISOLAÇÃO TÉRMICA, AQUE CHICIDO COM 2 MAÇARICOS, COM BARRA ESPARGIDORA 3,60 M, MONTADO SOBRE CAMINHÃO TOCO, PBT 14.300 KG, POTÊNCIA 185 CV - CHI DIURNO. AF_08/2015 | E42: CHI | F42: 0.001 | G42: 47.95 | H42: =ROUND(F42*G42,2) -> 0.05
A43: 8 | B43: SINAPI | C43: 102332 | D43: TRANSPORTE COM CAMINHÃO TANQUE DE TRANSPORTE DE MATERIAL ASFÁLTICO DE 20000 L, EM VIA URBANA PAVIMENTADA, DMT 30 KM (UNIDADE: TXKM). AF_07/2020 | E43: TXKM | F43: =ROUND(30*0.0012,2) -> 0.04 | G43: 1.39 | H43: =ROUND(F43*G43,2) -> 0.06
A44: 9 | B44: SINAPI | C44: 102333 | D44: TRANSPORTE COM CAMINHÃO TANQUE DE TRANSPORTE DE MATERIAL ASFÁLTICO DE 20000 L, EM VIA URBANA PAVIMENTADA, DMT 70 KM (UNIDADE: TXKM). AF_07/2020 | E44: TXKM | F44: =ROUND(70*0.0012,2) -> 0.08 | G44: 0.56 | H44: =ROUND(F44*G44,2) -> 0.04
F47: CUSTO (m²) | H47: =SUM(H36:H46) -> 7.87
A48: OBS: | B48: No cálculo dos preços médios mensais divulgados no sítio eletrônico da ANP, somente são considerados os preços à vista dos produtos asfálticos, de acordo com suas regiões de origem, ponderados pelos respectivos volumes comercializados, com todos os impostos incluídos, exceto ICMS (em função das diferenças tributárias existentes entre as unidades da federação), PIS/Pasep e Cofins e sem inclusões de fretes entre origem e destino do produto. | F48: BDI = | G48: 0.2423 | H48: =ROUND(H47*G48,2) -> 1.91
B50: Considerado: 1,65% PIS, 7,6% COFINS | F50: PREÇO FINAL | H50: =H47+H48 -> 9.78
A53: 96402 - CPU 06 | D53: EXECUÇÃO DE PINTURA DE LIGAÇÃO COM EMULSÃO ASFÁLTICA RR-2C. AF_11/2019 | H53: M2
A54: ORDEM | B54: REFERÊNCIA | C54: CÓDIGO | D54: DESCRIÇÃO | E54: UNIDADE | F54: COEFICIENTE | G54: CUSTO UNIT. (R$) | H54: TOTAL (R$)
A55: 1 | B55: SINAPI | C55: 5839 | D55: VASSOURA MECÂNICA REBOCÁVEL COM ESCOVA CILÍNDRICA, LARGURA ÚTIL DE VARRIMENTO DE 2,44 M - CHP DIURNO. AF_06/2014 | E55: CHP | F55: 0.002 | G55: 9.35 | H55: =ROUND(F55*G55,2) -> 0.02
A56: 2 | B56: SINAPI | C56: 5841 | D56: VASSOURA MECÂNICA REBOCÁVEL COM ESCOVA CILÍNDRICA, LARGURA ÚTIL DE VARRIMENTO DE 2,44 M - CHI DIURNO. AF_06/2014 | E56: CHI | F56: 0.004 | G56: 4.45 | H56: =ROUND(F56*G56,2) -> 0.02
A57: 3 | B57: SINAPI | C57: 41903 | D57: EMULSAO ASFALTICA CATIONICA RR-2C PARA USO EM PAVIMENTACAO ASFALTICA (COLETADO CAIXA NA ANP - ACRESCIDO DE ICMS, PIS E COFINS) | E57: kg | F57: 0.45 | G57: =ROUND(3.33*(1+0.0165+0.076),2) -> 3.64 | H57: =ROUND(F57*G57,2) -> 1.64
...

Sheet DMT
A1: BASE/CBUQ | B1: Distância (km)
A2: CONPASUL | B2: =43.4+1 -> 44.4
A3: GIOVANELLA | B3: =47.3+1 -> 48.3
A4: TREVISAN | B4: =38.5+1 -> 39.5
A5: DMT MÉDIA = | B5: =ROUNDUP(SUM(B2:B4)/3,0) -> 45
